BEGIN:VCALENDAR
VERSION:2.0
PRODID:-//ChamberMaster//Event Calendar 2.0//EN
METHOD:PUBLISH
X-PUBLISHED-TTL:P3D
REFRESH-INTERVAL:P3D
CALSCALE:GREGORIAN
BEGIN:VEVENT
DTSTART:20210914T173000Z
DTEND:20210914T190000Z
X-MICROSOFT-CDO-ALLDAYEVENT:FALSE
SUMMARY:Workshop: Canva Brands Kits
DESCRIPTION:Description:\n\nBranding made easy! You don't have to be an expert graphic designer to create a consistent look and feel for your business. \n\n\n\nJoin our Value Added Discount Program Partner nine10 Inc. virtually on September 14th to create your very own Canva Brand Kit. Build beautiful templates with easy drag and drop tools\, and save them to make it easy and efficient for your team to use for projects\, assets and uploads) with all your designs stored in one place.\n\n\n\nPrerequisites:\n\nSign up for your free Canva account at canva.com\n\n\n\nFacilitators: \n\nRyan Blais\, Partner   Business Development\nRyan joined the nine10 fold in 2012 with the acquisition of his social media & mobile consultancy\, GoSocial. Ryan's strengths as a collaborator\, networker and strategist have landed him a role as Business Development Director at nine10. In his day-to-day activities\, Ryan builds relationships by helping businesses develop effective marketing strategies that blend traditional and digital media.\n\nWhile not engaged in client projects\, Ryan works closely with his partners Cris and Richard on the vision\, direction\, and development of key company offerings for nine10. Ryan also comes to nine10 from a non-traditional route.  Prior to founding GoSocial\, he was a 12 year member of the Canadian Freestyle Ski Team where he represented his country on the international stage at the highest levels of sport.  Discipline\, clear focus\, and strong commitment to team dynamic are assets that are welcome additions as Ryan joins the nine10 team.\n\n\nAlix Johnson\, Graphic Designer\n\nOriginally from BC\, Alix works full-time from our Grande Prairie office. Alix comes from a family of designers and although she had no desire to join the "family trade" as a teenager\, she quickly learned that being creative and working with creative team members were too enjoyable not to include in a career choice. As a graduate of BCIT and Emily Carr\, Alix   knows how expensive Vancouver parking is and   brings a love for both website design and development along with graphic design to nine10's clients. In her day-to-day role\, she works closely with our team to design & build websites\, along with the occasional logo & any other client need.\n\nWhen not at work Alix spends her time reading\, running\, and generally being the daydreamy Pisces that astrology expects her to be.\n \n\nWhat if the date/time of this event does not work for me? \n\nNo need to miss out\, simply complete the registration by clicking the button below and you will receive a link to the recording following the event. Please mention you will not be in attendance in the comment section when registering.
X-ALT-DESC;FMTTYPE=text/html:<br />\n<span style="font-size:16px\;"><span style="font-family:arial\;"><strong>Description:</strong><br />\nBranding made easy! You don&#39\;t have to be an expert graphic designer to create a consistent look and feel for your business.&nbsp\;<br />\n<br />\nJoin our Value Added Discount Program Partner nine10 Inc. virtually on September 14th to create your very own Canva Brand Kit. Build beautiful templates with easy drag and drop tools\, and save them to make it easy and efficient for your team to use for projects\, assets and uploads) with all your designs stored in one place.<br />\n<br />\n<strong>Prerequisites:</strong><br />\nSign up for your free Canva account at canva.com<br />\n<br />\n<strong>Facilitators:</strong>&nbsp\;<br />\n<strong>Ryan Blais\, Partner &ndash\; Business Development</strong></span></span>\n<p style="margin: 0px\; padding: 0px\; border: 0px\; font-variant-numeric: inherit\; font-variant-east-asian: inherit\; font-stretch: inherit\; font-size: 18px\; line-height: inherit\; font-family: &quot\;Source Sans Pro&quot\;\, sans-serif\; vertical-align: baseline\; box-sizing: border-box\; color: rgb(117\, 117\, 117)\;"><span style="color:#333333\;"><span style="font-family:arial\;"><span style="font-size:16px\;">Ryan joined the nine10 fold in 2012 with the acquisition of his social media &amp\; mobile consultancy\, GoSocial. Ryan&rsquo\;s strengths as a collaborator\, networker and strategist have landed him a role as Business Development Director at nine10. In his day-to-day activities\, Ryan builds relationships by helping businesses develop effective marketing strategies that blend traditional and digital media.</span></span></span></p>\n\n<p style="margin: 20px 0px 0px\; padding: 0px\; border: 0px\; font-variant-numeric: inherit\; font-variant-east-asian: inherit\; font-stretch: inherit\; font-size: 18px\; line-height: inherit\; font-family: &quot\;Source Sans Pro&quot\;\, sans-serif\; vertical-align: baseline\; box-sizing: border-box\; color: rgb(117\, 117\, 117)\;"><span style="font-family:arial\;"><span style="font-size:16px\;"><span style="color:#333333\;">While not engaged in client projects\, Ryan works closely with his partners Cris and Richard on the vision\, direction\, and development of key company offerings for nine10. Ryan also comes to nine10 from a non-traditional route. &nbsp\;Prior to founding GoSocial\, he was a 12 year member of the&nbsp\;</span><a href="http://freestyleski.com/" rel="noopener noreferrer" style="margin: 0px\; padding: 0px\; border: 0px\; font: inherit\; vertical-align: baseline\; box-sizing: border-box\; box-shadow: none\; text-decoration-line: none\; color: var( --e-global-color-primary )\;" target="_blank"><span style="color:#333333\;">Canadian Freestyle Ski Team</span></a><span style="color:#333333\;">&nbsp\;where he represented his country on the international stage at the highest levels of sport. &nbsp\;Discipline\, clear focus\, and strong commitment to team dynamic are assets that are welcome additions as Ryan joins the nine10 team.</span></span></span></p>\n<br />\n<span style="font-size:16px\;"><span style="font-family:arial\;"><strong>Alix Johnson\, Graphic Designer</strong></span></span>\n\n<p style="margin: 0px\; padding: 0px\; border: 0px\; font-variant-numeric: inherit\; font-variant-east-asian: inherit\; font-stretch: inherit\; font-size: 18px\; line-height: inherit\; font-family: &quot\;Source Sans Pro&quot\;\, sans-serif\; vertical-align: baseline\; box-sizing: border-box\; color: rgb(117\, 117\, 117)\;"><span style="color:#333333\;"><span style="font-size:16px\;"><span style="font-family:arial\;">Originally from BC\, Alix works full-time from our Grande Prairie office. Alix comes from a family of designers and although she had no desire to join the &ldquo\;family trade&rdquo\; as a teenager\, she quickly learned that being creative and working with creative team members were too enjoyable not to include in a career choice. As a graduate of BCIT and Emily Carr\, Alix &mdash\; knows how expensive Vancouver parking is and &mdash\; brings a love for both website design and development along with graphic design to nine10&rsquo\;s clients. In her day-to-day role\, she works closely with our team to design &amp\; build websites\, along with the occasional logo &amp\; any other client need.</span></span></span></p>\n\n<p style="margin: 20px 0px 0px\; padding: 0px\; border: 0px\; font-variant-numeric: inherit\; font-variant-east-asian: inherit\; font-stretch: inherit\; font-size: 18px\; line-height: inherit\; font-family: &quot\;Source Sans Pro&quot\;\, sans-serif\; vertical-align: baseline\; box-sizing: border-box\; color: rgb(117\, 117\, 117)\;"><span style="color:#333333\;"><span style="font-size:16px\;"><span style="font-family:arial\;">When not at work Alix spends her time reading\, running\, and generally being the daydreamy Pisces that astrology expects her to be.</span></span></span></p>\n&nbsp\;\n\n<div style="color: rgb(46\, 47\, 47)\; font-family: Arial\, Verdana\, Helvetica\, sans-serif\; font-size: 16px\; white-space: pre-wrap\;"><span style="color: rgb(32\, 33\, 33)\; font-weight: bold\;">What if the date/time of this event does not work for me?&nbsp\;</span></div>\n\n<div style="color: rgb(46\, 47\, 47)\; font-family: Arial\, Verdana\, Helvetica\, sans-serif\; font-size: 16px\; white-space: pre-wrap\;"><span style="color: rgb(32\, 33\, 33)\;">No need to miss out\, simply complete the registration by clicking the button below and you will receive a link to the recording following the event. Please mention you will not be in attendance in the comment section when registering. </span></div>\n
LOCATION:Zoom - Link provided at time of registration
UID:e.1948.1377
SEQUENCE:3
DTSTAMP:20260421T061301Z
URL:https://www.airdriechamber.ab.ca/events/details/workshop-canva-brands-kits-1377
END:VEVENT

END:VCALENDAR
