BEGIN:VCALENDAR
VERSION:2.0
PRODID:-//ChamberMaster//Event Calendar 2.0//EN
METHOD:PUBLISH
X-PUBLISHED-TTL:P3D
REFRESH-INTERVAL:P3D
CALSCALE:GREGORIAN
BEGIN:VEVENT
DTSTART:20210304T180000Z
DTEND:20210304T190000Z
X-MICROSOFT-CDO-ALLDAYEVENT:FALSE
SUMMARY:Small and Medium Enterprise Relaunch Grant Overview
DESCRIPTION:Do you have questions regarding the Small and Medium Enterprise Relaunch Grant program? \n\nIf yes\, this informative presentation from the Government of Alberta is for you. \n\n\n\nWhat to expect:\n\n\n	An overview of the above government support program \n	An opportunity to have your specific/unique questions answered by an Alberta Government representative  \n\n \n\nSmall and Medium Enterprise Relaunch Grant webpage:\n\nhttps://www.alberta.ca/sme-relaunch-grant.aspx\n\n\n\nPlease note:  Applications for this grant will remain open until March 31\, 2021.\n \n\nPresenter:  Shannon Davis\n\nShannon is the Team Lead\, Policy and Communications for the Small and Medium Enterprise Relaunch Grant. With a background in tourism and in overseeing operations for the provincially operated visitor information centres\, Shannon has been working with the province for over 20 years. She has many years of customer service and tourism business promotion experience\, including as a travel counsellor promoting tourism throughout Alberta and overseeing the tourism Photo & Video Library\, which distributed visual materials to media and tourism operators for Alberta promotion purposes. In her free time\, Shannon is pursuing her Bachelor of Applied Human Service Administration and chasing her 2.5 year old son and 6 month bernedoodle puppy around the house.\n\n\n\nPlease submit your advanced questions in the "comments" section when registering to attend this FREE event for members.  In addition to submitting your advanced questions\, there will be an opportunity for attendees to ask live questions upon the conclusion of the formal presentation.
X-ALT-DESC;FMTTYPE=text/html:<div><span style="font-size:16px\;"><span style="font-family:arial\;">Do you have questions regarding the Small and Medium Enterprise Relaunch Grant program?&nbsp\;<br />\nIf yes\,&nbsp\;this informative presentation from&nbsp\;the Government of Alberta is for you.&nbsp\;<br />\n<br />\nWhat to expect:</span></span></div>\n\n<ul>\n	<li><span style="font-size:16px\;"><span style="font-family:arial\;">An overview of the above&nbsp\;government support program </span></span></li>\n	<li><span style="font-size:16px\;"><span style="font-family:arial\;">An&nbsp\;opportunity to have your specific/unique questions answered by an Alberta Government representative&nbsp\;</span></span>&nbsp\;</li>\n</ul>\n&nbsp\;\n\n<div style="color:#1F497D\;margin-left:0cm\;"><span style="font-size:16px\;"><span style="font-family:arial\;"><span style="color:#000000\;">Small and Medium Enterprise Relaunch Grant webpage:</span><br />\n<strong><a href="https://www.alberta.ca/sme-relaunch-grant.aspx">https://www.alberta.ca/sme-relaunch-grant.aspx</a></strong></span></span><br />\n<br />\n<strong style="color: rgb(51\, 51\, 51)\; font-family: arial\; font-size: 16px\; background-color: rgb(255\, 255\, 255)\;">Please note:&nbsp\; Applications for this grant will remain open until March 31\, 2021.</strong></div>\n&nbsp\;\n\n<div><span style="font-family:arial\;"><span style="font-size:16px\;"><strong>Presenter:&nbsp\; Shannon Davis</strong></span></span><br />\n<span style="font-size:16px\;">Shannon is the Team Lead\, Policy and Communications for the Small and Medium Enterprise Relaunch Grant. With a background in tourism and in overseeing operations for the provincially operated visitor information centres\, Shannon has been working with the province for over 20 years. She has many years of customer service and tourism business promotion experience\, including as a travel counsellor promoting tourism throughout Alberta and overseeing the tourism Photo &amp\; Video Library\, which distributed visual materials to media and tourism operators for Alberta promotion purposes. In her free time\, Shannon is pursuing her Bachelor of Applied Human Service Administration and chasing her 2.5 year old son and 6 month bernedoodle puppy around the house.</span><br />\n<br />\n<span style="font-family:arial\;"><span style="font-size:16px\;"><span style="box-sizing: border-box\; font-weight: bolder\; outline: 0px\; background-color: rgb(255\, 255\, 255)\;"><span style="box-sizing: border-box\; outline: 0px\; background-image: initial\; background-position: initial\; background-size: initial\; background-repeat: initial\; background-attachment: initial\; background-origin: initial\; background-clip: initial\;"><span style="box-sizing: border-box\; outline: 0px\;">Please submit your advanced questions in the &quot\;comments&quot\; section when registering to attend this FREE event for members.&nbsp\;&nbsp\;</span></span></span></span><span style="box-sizing: border-box\; background: white\;"><span style="box-sizing: border-box\;"><span style="font-size:16px\;">In addition to submitting your advanced questions\, there will be an opportunity for attendees to ask live questions upon the conclusion of the&nbsp\;formal presentation.</span><br />\n&nbsp\;&nbsp\;</span></span></span></div>\n
LOCATION:Zoom - link provided at time of registration.
UID:e.1948.1350
SEQUENCE:3
DTSTAMP:20260424T091451Z
URL:https://www.airdriechamber.ab.ca/events/details/small-and-medium-enterprise-relaunch-grant-overview-1350
END:VEVENT

END:VCALENDAR
