BEGIN:VCALENDAR
VERSION:2.0
PRODID:-//ChamberMaster//Event Calendar 2.0//EN
METHOD:PUBLISH
X-PUBLISHED-TTL:P3D
REFRESH-INTERVAL:P3D
CALSCALE:GREGORIAN
BEGIN:VEVENT
DTSTART:20250930T003000Z
DTEND:20250930T030000Z
X-MICROSOFT-CDO-ALLDAYEVENT:FALSE
SUMMARY:ONLINE MUNICIPAL CANDIDATES FORUM - AIRDRIE
DESCRIPTION:Virtual Municipal Candidates Forum for the City of Airdrie\n\n\n\nJoin the Airdrie Regional Chamber of Commerce virtually on Monday\, September 29th to hear from our local Mayoral and Councillor candidates running in the upcoming City of Airdrie election on October 20th\, 2025. This forum is open to all members of the community with a business focus in mind. \n\n\n\nIn addition to hearing a short introduction from each of the candidates\, the Airdrie Regional Chamber of Commerce will be asking candidates prepared questions based on their business platform.\n\n\n\nVirtual Event - Zoom Webinars \n\nWatch the recording \n\n\n\n\n\nAgenda: \n\n1) Mayoral candidates (Introductions and Questions) \n\n2) Councillor candidates (Introductions and Questions)\n\nSchedule is subject to change based on number of candidates. \n\n\n\nConfirmed  Mayoral candidates (alphabetical by last name) participating in forum: \n\nDave Douglass\n\nDylan Harty\n\nTina Petrow\n\nVern Raincock\n\nHeather Spearman\n\n\n\nConfirmed Councillor candidates (alphabetical by last name) participating in forum: \n\nTomisin (Tomi) Adenipekun\n\nChristopher Bakke\n\nDarrell Belyk\n\nRon Chapman\n\nCraig Dansereau\n\nChris Glass\n\nAl Jones\n\nCandice Kolson\n\nKathlene McCuaig\n\nRekha Mehay\n\nAnthony Morvillo\n\nSimisola Obasan\n\nJay Raymundo\n\nMaulik Shah\n\nKristen Shima\n\nChad Stewart\n\nKaren Whittenbury\n\nTammy Yantz\n\n\n\n\n\nPlease note that registration is recommended as you will be sent a calendar reminder and updates should there be any changes leading up to the event. \n\n\n\nWould you like to ask a question? \nWe kindly ask that all questions be submitted in advance by adding it to the comments section of your registration. There will be no questions taken from the floor during the live event. \n\nPlease note that questions posed will be subject to time restrictions and may not be asked\, thank you in advance for understanding. \n\n\n\nHow can I vote in my municipal election? Visit: airdrie.ca today\n\n\n\nThe Airdrie Regional Chamber of Commerce is politically non-partisan and therefore does not endorse any candidate.
X-ALT-DESC;FMTTYPE=text/html:<p data-end="152" data-start="85"><span style="font-size:16px\;"><span style="color:#000000\;"><strong><span style="font-family:arial\,sans-serif\;">Virtual Municipal Candidates Forum for the City of Airdrie</span></strong><br />\n<br />\n<span style="font-family:arial\,sans-serif\;">Join </span></span></span><span style="color:#000000\;"><span style="font-family: arial\; font-size: 16px\;">the Airdrie Regional Chamber of Commerce virtually </span></span><span style="font-size:16px\;"><span style="color:#000000\;"><span style="font-family:arial\,sans-serif\;">on Monday\, September 29th&nbsp\;to hear from our local Mayoral and </span></span></span><span style="color: rgb(0\, 0\, 0)\; font-family: arial\; font-size: 16px\;">Councillor&nbsp\;</span><span style="font-size:16px\;"><span style="color:#000000\;"><span style="font-family:arial\,sans-serif\;">candidates running in the upcoming City of Airdrie election on October 20th\, 2025. This forum is open to all members of the community with a business focus in mind.&nbsp\;</span></span></span><br />\n<br />\n<span style="color:#000000\;"><span style="font-family: arial\; font-size: 16px\;">In addition to hearing a short introduction from each of the candidates\, the Airdrie Regional Chamber of Commerce will be asking candidates prepared questions based on their&nbsp\;business platform.</span><br />\n<br />\n<span style="font-family: arial\;"><span style="font-size: 16px\;"><strong>Virtual Event - Zoom Webinars&nbsp\;</strong></span></span></span><br />\n<a href="https://youtu.be/Ry2CMJcWT7Q" target="_blank"><span style="color:#FF0000\;"><strong><span style="font-family: arial\;"><span style="font-size: 16px\;">Watch the recording&nbsp\;</span></span></strong></span></a><br />\n<br />\n<br />\n<span style="color:#000000\;"><strong><span style="font-family:arial\;"><span style="font-size:16px\;">Agenda:&nbsp\;</span></span></strong><br />\n<span style="font-family:arial\;"><span style="font-size:16px\;">1)&nbsp\;Mayoral candidates&nbsp\;</span></span></span><span style="color: rgb(0\, 0\, 0)\; font-family: arial\; font-size: 16px\;">(Introductions and Questions)</span><span style="color:#000000\;"><span style="font-family:arial\;"><span style="font-size:16px\;">&nbsp\;<br />\n2) Councillor candidates (Introductions and Questions)<br />\n<em>Schedule is subject to change based on number of candidates.&nbsp\;</em></span></span></span><br />\n<br />\n<strong style="color: rgb(0\, 0\, 0)\; font-family: arial\, sans-serif\; font-size: 16px\;"><span style="font-family:arial\;"><span style="font-size:16px\;">Confirmed&nbsp\; Mayoral candidates</span></span></strong><span style="font-family:arial\;"><span style="font-size:16px\;"><span style="color: rgb(0\, 0\, 0)\;">&nbsp\;</span><span style="font-size:12px\;"><span style="color: rgb(0\, 0\, 0)\;">(alphabetical by last name)</span></span><span style="color: rgb(0\, 0\, 0)\;">&nbsp\;participating in forum:&nbsp\;</span></span></span><br />\n<span style="color:#000000\;"><span style="font-family:arial\;"><span style="font-size:16px\;">Dave Douglass<br />\nDylan Harty<br />\nTina Petrow<br />\nVern Raincock<br />\nHeather Spearman</span></span></span><br />\n<br />\n<strong style="color: rgb(0\, 0\, 0)\; font-family: arial\, sans-serif\; font-size: 16px\;">Confirmed&nbsp\;Councillor candidates</strong><span style="color: rgb(0\, 0\, 0)\; font-family: arial\, sans-serif\; font-size: 16px\;">&nbsp\;</span><span style="color: rgb(0\, 0\, 0)\; font-family: arial\, sans-serif\; font-size: 12px\;">(alphabetical by last name)</span><span style="color: rgb(0\, 0\, 0)\; font-family: arial\, sans-serif\; font-size: 16px\;">&nbsp\;participating in forum:&nbsp\;</span><br />\n<span style="font-size:16px\;"><span style="font-family:arial\;">Tomisin (Tomi) Adenipekun<br />\nChristopher Bakke</span></span><br />\n<span style="font-size:16px\;"><span style="font-family:arial\;">Darrell Belyk<br />\nRon Chapman<br />\nCraig Dansereau</span></span><br />\n<span style="font-size:16px\;"><span style="font-family:arial\;">Chris Glass<br />\nAl Jones<br />\nCandice Kolson<br />\nKathlene McCuaig<br />\nRekha Mehay<br />\nAnthony Morvillo<br />\nSimisola Obasan<br />\nJay Raymundo<br />\nMaulik Shah<br />\nKristen Shima<br />\nChad Stewart<br />\nKaren Whittenbury<br />\nTammy Yantz</span></span><br />\n<br />\n<br />\n<span style="font-size:16px\;"><span style="color:#000000\;"><span style="font-family:arial\,sans-serif\;">Please note that <strong>registration is recommended</strong> as you will be sent a calendar reminder and updates should there be any changes leading up to the event.&nbsp\;</span></span></span><br />\n<br />\n<span style="color:#FF0000\;"><strong><span style="font-size:16px\;"><span style="font-family:arial\,sans-serif\;">Would you like to ask a question?&nbsp\;</span></span></strong></span></p>\n<span style="color:#000000\;"><span style="font-size:16px\;">We kindly ask that all questions be submitted in advance by adding it to the comments section of your registration. There will be no questions taken from the floor during the live event.&nbsp\;</span></span><br />\n<em><span style="font-size:16px\;"><span style="color:#000000\;">Please note that questions posed will be subject to time restrictions and may not be asked\, thank you in advance for understanding.&nbsp\;</span></span></em>\n\n<p data-end="152" data-start="85"><br />\n<strong style="font-family: arial\; font-size: 16px\;"><span style="color:#000000\;">How can I vote in my municipal election? Visit</span>:&nbsp\;<a href="https://www.airdrie.ca/index.cfm?serviceID=1712">airdrie.ca</a>&nbsp\;today</strong><br />\n<br />\n<span style="font-size:16px\;"><em><span style="color:#000000\;">The Airdrie Regional Chamber of Commerce is politically non-partisan and therefore does not endorse any candidate</span>.</em></span></p>\n
LOCATION:Watch the recording
UID:e.1948.2936
SEQUENCE:3
DTSTAMP:20260421T115702Z
URL:https://www.airdriechamber.ab.ca/events/details/online-municipal-candidates-forum-airdrie-2936
END:VEVENT

END:VCALENDAR
