BEGIN:VCALENDAR
VERSION:2.0
PRODID:-//ChamberMaster//Event Calendar 2.0//EN
METHOD:PUBLISH
X-PUBLISHED-TTL:P3D
REFRESH-INTERVAL:P3D
CALSCALE:GREGORIAN
BEGIN:VEVENT
DTSTART;VALUE=DATE:20260214
DTEND;VALUE=DATE:20260215
TRANSP:TRANSPARENT
X-MICROSOFT-CDO-ALLDAYEVENT:TRUE
SUMMARY:Member Event: Warm Up Airdrie
DESCRIPTION:Warm Up Airdrie is a winter community festival inviting local cafes\, bakeries and small businesses to feature a special sweet treat from February 14th - 28th\, 2026.  A portion of proceeds from each featured item sold is donated to Community Links\, meaning every treat purchased helps support local families while celebrating and supporting Airdrie's small businesses. Visit participating businesses\, try the featured treats and help warm up Airdrie.
X-ALT-DESC;FMTTYPE=text/html:Warm Up Airdrie is a winter community festival inviting local cafes\, bakeries and small businesses to feature a special sweet treat from February 14th - 28th\, 2026.&nbsp\; A portion of proceeds from each featured item sold is donated to Community Links\, meaning every treat purchased helps support local families while celebrating and supporting Airdrie&#39\;s small businesses. Visit participating businesses\, try the featured treats and help warm up Airdrie.
LOCATION:Various participating businesses
UID:e.1948.3231
SEQUENCE:3
DTSTAMP:20260422T125038Z
URL:https://www.airdriechamber.ab.ca/events/details/member-event-warm-up-airdrie-3231
END:VEVENT

END:VCALENDAR
