BEGIN:VCALENDAR
VERSION:2.0
PRODID:-//ChamberMaster//Event Calendar 2.0//EN
METHOD:PUBLISH
X-PUBLISHED-TTL:P3D
REFRESH-INTERVAL:P3D
CALSCALE:GREGORIAN
BEGIN:VEVENT
DTSTART:20210711T010000Z
DTEND:20210711T040000Z
X-MICROSOFT-CDO-ALLDAYEVENT:FALSE
SUMMARY:Member Event: Pride Fire!
DESCRIPTION:*** the location is East Lake fire pit***\n\n\n\n \n\n\n\nJuly 10th we are hosting a guided and casual discussion around the fire for those in the 2SLGBTQ+ community and our allies. \n\n\n\n \n\n\n\nWhen: July 10th\, 2021 at 7pm till late\n\n\n\n \n\n\n\nWhere: East Lake fire pit\n\n\n\n \n\n\n\nThis is a free event - just bring yourselves!\n\n\n\n \n\n\n\nAccessibility : Socially distanced\; Free parking\; Located off East Lake Road and beside the Scout Hall\; there is grass to the fire pit.\n\n\n\n \n\n\n\nFor any other questions\, please contact Rhianne@airdriepride.ca or send us a message on Facebook and Instagram.\n\n\n\n \n\n\n\n(Image Description: A dark red background with Yellow lettering reading "Pride fire" There is a cartoon fire over logs in the center. The poster has all the information above written on it.)
X-ALT-DESC;FMTTYPE=text/html:<div>\n<div><span style="font-family:inherit">*** the location is East Lake fire pit***</span></div>\n</div>\n\n<div>\n<div>&nbsp\;</div>\n</div>\n\n<div>\n<div><span style="font-family:inherit">July 10th we are hosting a guided and casual discussion around the fire for those in the 2SLGBTQ+ community and our allies. </span></div>\n</div>\n\n<div>\n<div>&nbsp\;</div>\n</div>\n\n<div>\n<div><span style="font-family:inherit">When: July 10th\, 2021 at 7pm till late</span></div>\n</div>\n\n<div>\n<div>&nbsp\;</div>\n</div>\n\n<div>\n<div><span style="font-family:inherit">Where: East Lake fire pit</span></div>\n</div>\n\n<div>\n<div>&nbsp\;</div>\n</div>\n\n<div>\n<div><span style="font-family:inherit">This is a free event - just bring yourselves!</span></div>\n</div>\n\n<div>\n<div>&nbsp\;</div>\n</div>\n\n<div>\n<div><span style="font-family:inherit">Accessibility : Socially distanced\; Free parking\; Located off East Lake Road and beside the Scout Hall\; there is grass to the fire pit.</span></div>\n</div>\n\n<div>\n<div>&nbsp\;</div>\n</div>\n\n<div>\n<div><span style="font-family:inherit">For any other questions\, please contact Rhianne@airdriepride.ca or send us a message on Facebook and Instagram.</span></div>\n</div>\n\n<div>\n<div>&nbsp\;</div>\n</div>\n\n<div>\n<div><span style="font-family:inherit">(Image Description: A dark red background with Yellow lettering reading &quot\;Pride fire&quot\; There is a cartoon fire over logs in the center. The poster has all the information above written on it.)</span></div>\n</div>\n
LOCATION:
UID:e.1948.1376
SEQUENCE:3
DTSTAMP:20260421T032208Z
URL:https://www.airdriechamber.ab.ca/events/details/member-event-pride-fire-07-10-2021-1376
END:VEVENT

END:VCALENDAR
