BEGIN:VCALENDAR
VERSION:2.0
PRODID:-//ChamberMaster//Event Calendar 2.0//EN
METHOD:PUBLISH
X-PUBLISHED-TTL:P3D
REFRESH-INTERVAL:P3D
CALSCALE:GREGORIAN
BEGIN:VEVENT
DTSTART:20220220T180000Z
DTEND:20220220T200000Z
X-MICROSOFT-CDO-ALLDAYEVENT:FALSE
SUMMARY:Member Event - Learning Outside the Box
DESCRIPTION:What will it take to make Alberta a leader in educational innovation? What can parents do to help their child gain the skills they need until that happens? Seven students will present inquiry priojects they have been working on for the last 6 weeks. Join us to support their learning\, discuss alternative education models and lend your voice to the need for Alberta education reform. Free drop-in passes to Artpourings studio will be handed out to the first 20 visitors.
X-ALT-DESC;FMTTYPE=text/html:What will it take to make Alberta a leader in educational innovation? What can parents do to help their child gain the skills they need until that happens? Seven students will present inquiry priojects they have been working on for the last 6 weeks. Join us to support their learning\, discuss alternative education models and lend your voice to the need for Alberta education reform. <strong>Free drop-in passes to Artpourings studio will be handed out to the first 20 visitors.&nbsp\;</strong>
LOCATION:The atrium of New Horizon Mall 260300 Writing Creek Cres\, Rockyview County
UID:e.1948.1400
SEQUENCE:3
DTSTAMP:20260419T235406Z
URL:https://www.airdriechamber.ab.ca/events/details/member-event-learning-outside-the-box-1400
END:VEVENT

END:VCALENDAR
