BEGIN:VCALENDAR
VERSION:2.0
PRODID:-//ChamberMaster//Event Calendar 2.0//EN
METHOD:PUBLISH
X-PUBLISHED-TTL:P3D
REFRESH-INTERVAL:P3D
CALSCALE:GREGORIAN
BEGIN:VEVENT
DTSTART:20210628T000000Z
DTEND:20210628T013000Z
X-MICROSOFT-CDO-ALLDAYEVENT:FALSE
SUMMARY:Member Event - Airdrie Pride Live Webinar
DESCRIPTION:Live Webinar with Airdrie Pride and the Local community. \n\n\n\nWhat is it like to be in the 2SLGBTQ+ community in Airdrie? What do we need to do in order to support our community thriving in Airdrie?  \n\n\n\nHear from our local community casual discussion style this live panel event\n\n\n\nSunday\, June 27th\, 2021 from 6 - 7:30 pm\n\n\n\nfor event registration link please contact Rhianne@airdriepride.ca or send us a message on Facebook or Instagram\n\n\n\nAccessibility: Online via zoom\; there will be no scheduled break during the event\; it will be recorded and posted afterwards\; this event will be in spoken English.
X-ALT-DESC;FMTTYPE=text/html:<span style="color:rgb(5\, 5\, 5)\; font-family:system-ui\,-apple-system\,blinkmacsystemfont\,.sfnstext-regular\,sans-serif\; font-size:15px">Live Webinar with Airdrie Pride and the Local community.&nbsp\;</span><br />\n<br />\n<span style="color:rgb(5\, 5\, 5)\; font-family:system-ui\,-apple-system\,blinkmacsystemfont\,.sfnstext-regular\,sans-serif\; font-size:15px">What is it like to be in the 2SLGBTQ+ community in Airdrie? What do we need to do in order to support our community thriving in Airdrie?&nbsp\;&nbsp\;</span><br />\n<br />\n<span style="color:rgb(5\, 5\, 5)\; font-family:system-ui\,-apple-system\,blinkmacsystemfont\,.sfnstext-regular\,sans-serif\; font-size:15px">Hear from our local community casual discussion style this live panel event</span><br />\n<br />\n<span style="color:rgb(5\, 5\, 5)\; font-family:system-ui\,-apple-system\,blinkmacsystemfont\,.sfnstext-regular\,sans-serif\; font-size:15px">Sunday\, June 27th\, 2021 from 6 - 7:30 pm</span><br />\n<br />\n<span style="color:rgb(5\, 5\, 5)\; font-family:system-ui\,-apple-system\,blinkmacsystemfont\,.sfnstext-regular\,sans-serif\; font-size:15px">for event registration link please contact Rhianne@airdriepride.ca or send us a message on Facebook or Instagram</span><br />\n<br />\n<span style="color:rgb(5\, 5\, 5)\; font-family:system-ui\,-apple-system\,blinkmacsystemfont\,.sfnstext-regular\,sans-serif\; font-size:15px">Accessibility: Online via zoom\; there will be no scheduled break during the event\; it will be recorded and posted afterwards\; this event will be in spoken English.</span>
LOCATION:
UID:e.1948.1370
SEQUENCE:3
DTSTAMP:20260421T091902Z
URL:https://www.airdriechamber.ab.ca/events/details/member-event-airdrie-pride-live-webinar-1370
END:VEVENT

END:VCALENDAR
