BEGIN:VCALENDAR
VERSION:2.0
PRODID:-//ChamberMaster//Event Calendar 2.0//EN
METHOD:PUBLISH
X-PUBLISHED-TTL:P3D
REFRESH-INTERVAL:P3D
CALSCALE:GREGORIAN
BEGIN:VEVENT
DTSTART:20260502T064500Z
DTEND:20260502T230000Z
X-MICROSOFT-CDO-ALLDAYEVENT:FALSE
SUMMARY:Member Event: 10th Annual Century Downs Chihuahua Races
DESCRIPTION:We're celebrating the 10th running of the Century Downs Chihuahua Races!\n\nJoin us on the track on May 2\, 2026 for live harness racing\, the 152nd Kentucky Derby & of course  the 10th annual Century Downs Chihuahua Races!\n\nMore details to come\, follow us on social media so you don't miss out on the latest updates!
X-ALT-DESC;FMTTYPE=text/html:<p><strong>We&#39\;re celebrating the 10th running of the Century Downs Chihuahua Races!</strong></p>\n\n<p>Join us on the track on May 2\, 2026 for live harness racing\, the 152nd Kentucky Derby &amp\; of course&hellip\; the 10th annual Century Downs Chihuahua Races!</p>\n\n<p>More details to come\, follow us on social media so you don&#39\;t miss out on the latest updates!</p>\n
LOCATION:260 Century Downs Drive
UID:e.1948.3226
SEQUENCE:3
DTSTAMP:20260424T073716Z
URL:https://www.airdriechamber.ab.ca/events/details/member-event-10th-annual-century-downs-chihuahua-races-3226
END:VEVENT

END:VCALENDAR
