BEGIN:VCALENDAR
VERSION:2.0
PRODID:-//ChamberMaster//Event Calendar 2.0//EN
METHOD:PUBLISH
X-PUBLISHED-TTL:P3D
REFRESH-INTERVAL:P3D
CALSCALE:GREGORIAN
BEGIN:VEVENT
DTSTART:20250121T163000Z
DTEND:20250121T180000Z
X-MICROSOFT-CDO-ALLDAYEVENT:FALSE
SUMMARY:MEET YOUR CHAMBER
DESCRIPTION:Join your local chamber for a short presentation to learn more about the Airdrie Regional Chamber and how we can work together to represent the interests of businesses in our region\, a chance to win prizes and optional networking. Don't forget your business cards!\n\n\n\nLight refreshments included. Registration is required.
X-ALT-DESC;FMTTYPE=text/html:<p><span style="box-sizing: border-box\; font-family: Arial\, Helvetica\, sans-serif\; font-size: 16px\; color: rgb(0\, 0\, 0)\;">Join your local chamber for a short presentation to learn more about the Airdrie Regional Chamber and how we can work together to represent the interest</span><span style="box-sizing: border-box\; font-family: Arial\, Helvetica\, sans-serif\; font-size: 16px\; color: rgb(0\, 0\, 0)\;">s of businesses in our region</span><span style="box-sizing: border-box\; font-family: Arial\, Helvetica\, sans-serif\; font-size: 16px\; color: rgb(0\, 0\, 0)\;">\, a chance to win prizes and optional networking. Don&#39\;t forget your business cards!<br style="box-sizing: border-box\;" />\n<br style="box-sizing: border-box\;" />\nLight refreshments included. Registration is required.</span></p>\n
LOCATION:Airdrie Regional Chamber of Commerce 102\, 150 Edwards Way NW Airdrie\, AB T4B 4B9
UID:e.1948.2806
SEQUENCE:3
DTSTAMP:20260420T161845Z
URL:https://www.airdriechamber.ab.ca/events/details/meet-your-chamber-2806
END:VEVENT

END:VCALENDAR
