BEGIN:VCALENDAR
VERSION:2.0
PRODID:-//ChamberMaster//Event Calendar 2.0//EN
METHOD:PUBLISH
X-PUBLISHED-TTL:P3D
REFRESH-INTERVAL:P3D
CALSCALE:GREGORIAN
BEGIN:VEVENT
DTSTART:20260528T133000Z
DTEND:20260528T150000Z
X-MICROSOFT-CDO-ALLDAYEVENT:FALSE
SUMMARY:CHAMBER CONNECTIONS - COSTCO
DESCRIPTION:Chamber Connections at Costco   Private Morning Shopping Experience!\n\n\n\nStart your day the Costco way\, before the doors even open. Join the Airdrie Regional Chamber for an exclusive Chamber Connections event at Costco Wholesale\, where you'll enjoy private shopping access alongside fellow Chamber members and so much more.\n\n\n\nEnjoy a relaxed morning featuring:\n\n  Continental breakfast to kickstart your day\n\n  Goodie bags for every attendee\n\n  Prize giveaways\n\n  Plenty of time to connect\, socialize\, and build relationships\n\n\n\nWe'll also begin with a short info session from the Costco team\, covering:\n\n  Membership options\n\n  Business benefits\n\n  Insider tips to maximize your membership\n\nWhether you're stocking up for your business or simply looking for a unique early morning experience\, this is your chance to experience Costco in a whole new way.\n\n\n\nImportant Notes\n\n  All shoppers must have a Costco membership to make purchases\n\n  Already a member? Bring your card and shop\n\n  Not a member? No problem\, you can sign up on site and start shopping right away!
X-ALT-DESC;FMTTYPE=text/html:<p style="margin: 0px\; padding: 0px\; color: rgb(46\, 47\, 47)\; font-family: Arial\, Verdana\, Helvetica\, sans-serif\; font-size: 16px\;"><span style="color:#000000\;"><span style="font-size:16px\;"><span style="font-family:arial\;"><strong>Chamber Connections at Costco &ndash\; Private Morning Shopping Experience!</strong><br />\n<br />\nStart your day the Costco way\, before the doors even open. Join the Airdrie Regional Chamber for an exclusive Chamber Connections event at Costco Wholesale\, where you&rsquo\;ll enjoy private shopping access alongside fellow Chamber members and so much more.<br />\n<br />\n<strong>Enjoy a relaxed morning featuring:</strong><br />\n&bull\; Continental breakfast to kickstart your day<br />\n&bull\; Goodie bags for every attendee<br />\n&bull\; Prize giveaways<br />\n&bull\; Plenty of time to connect\, socialize\, and build relationships<br />\n<br />\n<strong>We&rsquo\;ll also begin with a short info session from the Costco team\, covering:</strong><br />\n&bull\; Membership options<br />\n&bull\; Business benefits<br />\n&bull\; Insider tips to maximize your membership<br />\nWhether you&#39\;re stocking up for your business or simply looking for a unique early morning experience\, this is your chance to experience Costco in a whole new way.</span></span></span><br />\n<br />\n<strong>Important Notes</strong><br />\n&bull\; All shoppers must have a Costco membership to make purchases<br />\n&bull\; Already a member? Bring your card and shop<br />\n&bull\; Not a member? No problem\, you can sign up on site and start shopping right away!</p>\n
LOCATION:Costco Wholesale\, Balzac Rocky View County 300\, 293020 Crossiron Common\, Rocky View County AB T4A 0J6
UID:e.1948.3296
SEQUENCE:3
DTSTAMP:20260421T215040Z
URL:https://www.airdriechamber.ab.ca/events/details/chamber-connections-costco-3296
END:VEVENT

END:VCALENDAR
